Workbook

Sheet Главная 
B2: Продукция Интернет-магазина Вологодского чаемана
B3: 8 (931) 50-125-50 Сергей Вологодский чаеман Кузнецов
B4: Наш сайт http://www.volteaman.ru/
B6: 1. Травяные чаи, благовония, травы и зубные порошки от Вологодского чаемана | P6: ='Травяные чаи оптом'!D200 -> 0
B7: 2. Иван-чай весовой оптом (Крупнолистовой, среднелистовой, мелколистовой, гранулированный) | P7: ='Иван-чай весовой'!C14 -> 0
B8: 3. Травы, дикоросы, целебные дары природы | P8: ='Дикоросы и дары леса'!D118 -> 0
B9: 4. Вологодская пастила оптом (по ценам производителя) | P9: ='Вологодская пастила'!#REF! -> #REF!
B10: 5. Вологодские цукаты и клюква в сахарной пудре | P10: ='Цукаты и клюква'!D40 -> 0
B11: 6. Чага и чага-чай | P11: ='Чага оптом'!C27 -> 0
B12: 7. Драже | P12: =Драже!#REF! -> #REF!
B13: 8. Зефир и кондитерская пастила из Вологды | P13: =Зефир!#REF! -> #REF!
B14: 9. Конфеты из Вологды и экобатончики | P14: =Конфеты!#REF! -> #REF!
B15: 10. Карамель, монпансье и ирис из Вологды | P15: ='Карамель и ирис'!#REF! -> #REF!
B16: 11. Мармелад из Вологды | P16: =Мармелад!#REF! -> #REF!
B17: 12. Зефир весовой | P17: ='Зефир весовой'!D35 -> 0
P18: =#REF! -> #REF!
B20: Реквизиты ИП Кузнецов Сергей Андреевич, контактные данные
B22: * минимальный заказ по всем разделам 5 000 рублей, если не указаны иные условия
B23: ** при оплате наличными скидка 7%
B24: *** цены в конечном документе на реализацию могут отличаться на 1-2% от цен в прайс-листе

Sheet Травяные чаи оптом
A1: ИП Кузнецов Сергей Андреевич | C1: Вернуться на главную страницу
A3: Россия, Вологодская обл., рп. Чебсара, пер. Переселенческий, 10
A4: e-mail: kuz_mag@mail.ru, сайт: https://www.volteaman.ru
A5: Телефон, WhatsApp, Telegram: +7 (931) 501-25-50 | B5: Минимальный заказ 5000 рублей!!!
A7: Качественные и полезные продукты Вологодской области
A8: (цены для оптовых покупателей и СП)
A9: Клиент:
A10: Дата заказа:
A11: Листовой Вологодский Иван-чай в картонной упаковке | B11: Вес, гр | C11: Цена за шт., руб | D11: Заказ, шт. | E11: Сумма, руб.
A12: Вологодский Иван-чай классический в картонной упаковке, 50 г | B12: 50 | C12: 110 | D12: 0 | E12: =C12*D12 -> 0
A13: Вологодский Иван-чай с листьями вишни в картонной упаковке, 50 г | B13: 50 | C13: 115 | D13: 0 | E13: =C13*D13 -> 0
A14: Вологодский Иван-чай с листьями малины в картонной упаковке, 50 г | B14: 50 | C14: 115 | D14: 0 | E14: =C14*D14 -> 0
A15: Вологодский Иван-чай с листьями смородины в картонной упаковке, 50 г | B15: 50 | C15: 115 | D15: 0 | E15: =C15*D15 -> 0
A16: Вологодский Иван-чай с таволгой в картонной упаковке, 50 г | B16: 50 | C16: 115 | D16: 0 | E16: =C16*D16 -> 0
A17: Вологодский Иван-чай с имбирем и лимоном в картонной упаковке, 50 г | B17: 50 | C17: 115 | D17: 0 | E17: =C17*D17 -> 0
A18: Вологодский Иван-чай с чагой в картонной упаковке, 100 г | B18: 100 | C18: 125 | D18: 0 | E18: =C18*D18 -> 0
A19: Вологодский Иван-чай с облепихой в картонной упаковке, 50 г | B19: 50 | C19: 115 | D19: 0 | E19: =C19*D19 -> 0
A20: Вологодский Иван-чай с чабрецом в картонной упаковке, 50 г | B20: 50 | C20: 110 | D20: 0 | E20: =C20*D20 -> 0
A21: Вологодский Иван-чай с шиповником в картонной упаковке, 50 г | B21: 50 | C21: 110 | D21: 0 | E21: =C21*D21 -> 0
A22: Вологодский Иван-чай с мятой в картонной упаковке, 50 г | B22: 50 | C22: 110 | D22: 0 | E22: =C22*D22 -> 0
A23: Вологодский Иван-чай с мелиссой в картонной упаковке, 50 г | B23: 50 | C23: 110 | D23: 0 | E23: =C23*D23 -> 0
... A31: Вологодский Иван-чай с брусникой в картонной упаковке, 50 г | B31: 50 | C31: 125 | D31: 0 | E31: =C31*D31 -> 0
A32: Иван-чай ФИТО Fit (НОВИНКА) | B32: Вес, гр | C32: Цена за шт., руб по безналу | D32: Заказ, шт. | E32: Сумма, руб.
A33: Иван-чай "Антистресс" 50 гр. | B33: 50 | C33: 105 | D33: 0 | E33: =D33*C33 -> 0
A34: Иван-чай "Иммунитет" 50 гр. | B34: 50 | C34: 105 | D34: 0 | E34: =D34*C34 -> 0
A35: Иван-чай "Новогодний глинтвейн" 50 гр. | B35: 50 | C35: 110 | D35: 0 | E35: =D35*C35 -> 0
A36: Иван-чай и сборы в пирамидках ФИТО Fit | B36: Вес, гр | C36: Цена за шт., руб по безналу | D36: Заказ, шт. | E36: Сумма, руб.
A37: Сбор "Формула стройности" в пирамидках (15 пирамидок по 2,5 гр) в картонной упаковке | B37: 37.5 | C37: 125 | D37: 0 | E37: =C37*D37 -> 0
A38: Сбор "Формула силы" в пирамидках (15 пирамидок по 2,5 гр) в картонной упаковке | B38: 37.5 | C38: 125 | D38: 0 | E38: =C38*D38 -> 0
A39: Иван-чай классический в пирамидках (12 пирамидок по 2,5 гр) в картонной упаковке | B39: 30 | C39: 112 | D39: 0 | E39: =C39*D39 -> 0
A40: Иван-чай с брусникой в пирамидках (12 пирамидок по 2,5 гр) в картонной упаковке | B40: 30 | C40: 112 | D40: 0 | E40: =C40*D40 -> 0
A41: Иван-чай с мятой в пирамидках (12 пирамидок по 2,5 гр) в картонной упаковке | B41: 30 | C41: 112 | D41: 0 | E41: =C41*D41 -> 0
A42: Иван-чай с облепихой в пирамидках (12 пирамидок по 2,5 гр) в картонной упаковке | B42: 30 | C42: 112 | D42: 0 | E42: =C42*D42 -> 0
A43: Иван-чай классический в пирамидках в БОПП пакете (1 пирамидка) | B43: 2.5 | C43: 8 | D43: 0 | E43: =C43*D43 -> 0
A44: Иван-чай с брусникой в пирамидках в БОПП пакете (1 пирамидка) | B44: 2.5 | C44: 8 | D44: 0 | E44: =C44*D44 -> 0
A45: Иван-чай с мятой в пирамидках в БОПП пакете (1 пирамидка) | B45: 2.5 | C45: 8 | D45: 0 | E45: =C45*D45 -> 0
A46: Иван-чай с облепихой в пирамидках в БОПП пакете (1 пирамидка) | B46: 2.5 | C46: 8 | D46: 0 | E46: =C46*D46 -> 0
A47: Сбор "Формула стройности" в пирамидках в БОПП пакете (1 пирамидка) | B47: 2.5 | C47: 8 | D47: 0 | E47: =C47*D47 -> 0
A48: Сбор "Формула силы" в пирамидках в БОПП пакете (1 пирамидка) | B48: 2.5 | C48: 8 | D48: 0 | E48: =C48*D48 -> 0
... A54: Иван-чай с облепихой в пирамидках в саше (1 пирамидка) | B54: 2.5 | C54: 14 | D54: 0 | E54: =C54*D54 -> 0
A55: Листовой Иван-чай из Великого Устюга в картонной упаковке 50 гр ОГРАНИЧЕННАЯ СЕРИЯ | B55: Вес, гр | C55: Цена за шт., руб по безналу | D55: Заказ, шт. | E55: Сумма, руб.
A56: Иван-чай из Великого Устюга классический в картонной упаковке, 50 г | B56: 50 | C56: 105 | D56: 0 | E56: =C56*D56 -> 0
A57: Иван-чай из Великого Устюга с листьями вишни в картонной упаковке, 50 г | B57: 50 | C57: 110 | D57: 0 | E57: =C57*D57 -> 0
A58: Иван-чай из Великого Устюга с листьями малины в картонной упаковке, 50 г | B58: 50 | C58: 110 | D58: 0 | E58: =C58*D58 -> 0
A59: Иван-чай из Великого Устюга с листьями смородины в картонной упаковке, 50 г | B59: 50 | C59: 115 | D59: 0 | E59: =C59*D59 -> 0
A60: Иван-чай из Великого Устюга с таволгой в картонной упаковке, 50 г | B60: 50 | C60: 115 | D60: 0 | E60: =C60*D60 -> 0
A61: Иван-чай из Великого Устюга с листом ежевики в картонной упаковке, 50 г | B61: 50 | C61: 115 | D61: 0 | E61: =C61*D61 -> 0
A62: Иван-чай из Великого Устюга с чагой в картонной упаковке, 50 г | B62: 50 | C62: 115 | D62: 0 | E62: =C62*D62 -> 0
A63: Иван-чай из Великого Устюга с облепихой в картонной упаковке, 50 г | B63: 50 | C63: 115 | D63: 0 | E63: =C63*D63 -> 0
A64: Иван-чай из Великого Устюга с чабрецом в картонной упаковке, 50 г | B64: 50 | C64: 110 | D64: 0 | E64: =C64*D64 -> 0
A65: Иван-чай из Великого Устюга с шиповником в картонной упаковке, 50 г | B65: 50 | C65: 110 | D65: 0 | E65: =C65*D65 -> 0
A66: Иван-чай из Великого Устюга с мятой в картонной упаковке, 50 г | B66: 50 | C66: 110 | D66: 0 | E66: =C66*D66 -> 0
A67: Иван-чай из Великого Устюга с листом земляники в картонной упаковке, 50 г | B67: 50 | C67: 110 | D67: 0 | E67: =C67*D67 -> 0
... A81: Иван-чай из Великого Устюга со зверобоем в картонной упаковке, 50 г | B81: 50 | C81: 110 | D81: 0 | E81: =C81*D81 -> 0
A82: Листовой Вологодский Иван-чай в крафт-пакете 250 гр | B82: Вес, гр | C82: Цена за шт., руб | D82: Заказ, шт. | E82: Сумма, руб.
A83: Вологодский Иван-чай классический в крафт-пакете 250 гр | B83: 250 | C83: 350 | E83: =C83*D83 -> 0
A84: Вологодский Иван-чай классический среднелистовой | B84: 250 | C84: 300 | E84: =C84*D84 -> 0
A85: Вологодский Иван-чай классический гранулированный | B85: 250 | C85: 300 | E85: =C85*D85 -> 0
A86: Вологодский Иван-чай с душицей | B86: 250 | C86: 350 | E86: =C86*D86 -> 0
A87: Вологодский Иван-чай с листьями вишни | B87: 250 | C87: 350 | E87: =C87*D87 -> 0
A88: Вологодский Иван-чай с листьями малины | B88: 250 | C88: 350 | E88: =C88*D88 -> 0
A89: Вологодский Иван-чай с листьями смородины | B89: 250 | C89: 350 | E89: =C89*D89 -> 0
A90: Вологодский Иван-чай с таволгой | B90: 250 | C90: 350 | E90: =C90*D90 -> 0
A91: Вологодский Иван-чай с имбирем и лимоном | B91: 250 | C91: 350 | E91: =C91*D91 -> 0
A92: Вологодский Иван-чай с чагой | B92: 250 | C92: 350 | E92: =C92*D92 -> 0
A93: Вологодский Иван-чай с облепихой | B93: 250 | C93: 350 | E93: =C93*D93 -> 0
A94: Вологодский Иван-чай с чабрецом | B94: 250 | C94: 350 | E94: =C94*D94 -> 0
... A108: Вологодский Иван-чай с яблоком | B108: 250 | C108: 350 | E108: =C108*D108 -> 0
A109: Листовой Вологодский Иван-чай в дой-паке с застёжкой зип-лок 250 гр | B109: Вес, гр | C109: Цена за шт., руб | D109: Заказ, шт. | E109: Сумма, руб.
A110: Вологодский Иван-чай классический | B110: 250 | C110: 400 | E110: =C110*D110 -> 0
A111: Вологодский Иван-чай классический среднелистовой | B111: 250 | C111: 350 | E111: =C111*D111 -> 0
A112: Вологодский Иван-чай классический гранулированный | B112: 250 | C112: 350 | E112: =C112*D112 -> 0
A113: Вологодский Иван-чай с душицей | B113: 250 | C113: 400 | E113: =C113*D113 -> 0
A114: Вологодский Иван-чай с листьями вишни | B114: 250 | C114: 400 | E114: =C114*D114 -> 0
A115: Вологодский Иван-чай с листьями малины | B115: 250 | C115: 400 | E115: =C115*D115 -> 0
A116: Вологодский Иван-чай с листьями смородины | B116: 250 | C116: 400 | E116: =C116*D116 -> 0
A117: Вологодский Иван-чай с таволгой | B117: 250 | C117: 400 | E117: =C117*D117 -> 0
A118: Вологодский Иван-чай с имбирем и лимоном | B118: 250 | C118: 400 | E118: =C118*D118 -> 0
A119: Вологодский Иван-чай с чагой | B119: 250 | C119: 400 | E119: =C119*D119 -> 0
A120: Вологодский Иван-чай с облепихой | B120: 250 | C120: 400 | E120: =C120*D120 -> 0
A121: Вологодский Иван-чай с чабрецом | B121: 250 | C121: 400 | E121: =C121*D121 -> 0
... A134: Вологодский Иван-чай с яблоком | B134: 250 | C134: 400 | E134: =C134*D134 -> 0
A135: Листовой Вологодский Иван-чай в бумажном пакете 500 гр | B135: Вес, гр | C135: Цена за шт., руб | D135: Заказ, шт. | E135: Сумма, руб.
A136: Вологодский Иван-чай классический крупнолистовой в бумажном пакете 500 гр. | B136: 500 | C136: 700 | D136: 0 | E136: =C136*D136 -> 0
A137: Вологодский Иван-чай классический среднелистовой в бумажном пакете 500 гр. | B137: 500 | C137: 600 | D137: 0 | E137: =C137*D137 -> 0
A138: Вологодский Иван-чай классический мелколистовой в бумажном пакете 500 гр. | B138: 500 | C138: 500 | D138: 0 | E138: =C138*D138 -> 0
A139: Вологодский Иван-чай классический гранулированный в бумажном пакете 500 гр. | B139: 500 | C139: 500 | D139: 0 | E139: =C139*D139 -> 0
A140: Вологодский Иван-чай классический гранулированный (мелкая гранула) в бумажном пакете 500 гр. | B140: 500 | C140: 400 | D140: 0 | E140: =C140*D140 -> 0
A141: Вологодский Иван-чай с душицей в бумажном пакете 500 гр. | B141: 500 | C141: 700 | D141: 0 | E141: =C141*D141 -> 0
A142: Вологодский Иван-чай с листьями вишни в бумажном пакете 500 гр. | B142: 500 | C142: 700 | D142: 0 | E142: =C142*D142 -> 0
A143: Вологодский Иван-чай с листьями малины в бумажном пакете 500 гр. | B143: 500 | C143: 700 | D143: 0 | E143: =C143*D143 -> 0
A144: Вологодский Иван-чай с листьями смородины в бумажном пакете 500 гр. | B144: 500 | C144: 700 | D144: 0 | E144: =C144*D144 -> 0
A145: Вологодский Иван-чай с таволгой в бумажном пакете 500 гр. | B145: 500 | C145: 700 | D145: 0 | E145: =C145*D145 -> 0
A146: Вологодский Иван-чай с имбирем и лимоном в бумажном пакете 500 гр. | B146: 500 | C146: 700 | D146: 0 | E146: =C146*D146 -> 0
A147: Вологодский Иван-чай с чагой 500 г | B147: 500 | C147: 700 | D147: 0 | E147: =C147*D147 -> 0
... A162: Вологодский Иван-чай с яблоком в бумажном пакете 500 гр. | B162: 500 | C162: 700 | D162: 0 | E162: =C162*D162 -> 0
A163: Листовой Вологодский Иван-чай в пакете Дой-пак с замком зип-лок 500 гр | B163: Вес, гр | C163: Цена за шт., руб | D163: Заказ, шт. | E163: Сумма, руб.
A164: Вологодский Иван-чай классический 500 гр | B164: 500 | C164: 750 | D164: 0 | E164: =C164*D164 -> 0
A165: Вологодский Иван-чай классический среднелистовой 500 гр | B165: 500 | C165: 650 | D165: 0 | E165: =C165*D165 -> 0
A166: Вологодский Иван-чай классический мелколистовой 500 гр | B166: 500 | C166: 600 | D166: 0 | E166: =C166*D166 -> 0
...

Sheet Иван-чай весовой
A1: Оптовый прайс-лист на Иван-чай | I1: Вернуться на главную страницу
B5: Минимальный заказ от тарного места
A6: № | B6: Наименование (весовой чай) | C6: Оптовая цена, руб. | D6: заказ, шт | E6: сумма | F6: Цена со скидкой, руб. (при оплате наличными)
A7: 1 | B7: Иван-чай крупнолистовой (покупка от тарного места 12 кг) | C7: 1200 | E7: =D7*C7 -> 0 | F7: 1090
A8: 2 | B8: Иван-чай среднелистовой (покупка от тарного места 10 кг) Нет в наличии | C8: 1070 | E8: =D8*C8 -> 0 | F8: 1000
A9: 3 | B9: Иван-чай мелколистовой (3-9 мм) (тарное место 10 кг) | C9: 900 | F9: 850
A10: 4 | B10: Иван-чай гранулированный мясорубочный 1 кг (тарное место 10 кг) | C10: 900 | E10: =D10*C10 -> 0 | F10: 850
A11: 5 | B11: Иван-чай гранулированный грануляторный 1 кг (тарное место 7 кг) | C11: 850 | E11: =D11*C11 -> 0 | F11: 800
C12: Итого: | E12: =SUM(E7:E11) -> 0
B14: ИТОГО | C14: =E12+H12+K12+N12 -> 0
B16: прайс актуален до 01.12.2025
B17: =I1 -> Вернуться на главную страницу

Sheet Вологодская пастила
A1: ВОЛОГОДСКИЙ ЧАЕМАН | D1: Вернуться на главную страницу
A2: 8931-50-125-50
A3: Сергей
C4: ВОЛОГОДСКАЯ ПАСТИЛА
B6: № | C6: Товарная позиция | D6: Цена | E6: Заказ, шт | F6: Сумма | H6: Цена наличные
B7: 1 | C7: Вологодские яблочные конфеты из Антоновки в молочном шоколаде 150гр | D7: 468.72 | F7: =D7*E7 -> 0 | H7: =D7*0.95 -> 445.284
B8: 2 | C8: Вологодские яблочные конфеты из Антоновки в молочном шоколаде 2кг | D8: 2348.64 | F8: =D8*E8 -> 0 | H8: =D8*0.95 -> 2231.208
B9: 3 | C9: Палочки "Фитнес" яблочные без сахара классические | D9: 290.85 | F9: =D9*E9 -> 0 | H9: =D9*0.95 -> 276.3075
B10: 4 | C10: Палочки "Фитнес" яблочные без сахара с вишней | D10: 291.06 | F10: =D10*E10 -> 0 | H10: =D10*0.95 -> 276.507
B11: 5 | C11: Палочки "Фитнес" яблочные без сахара с клюквой | D11: 291.06 | F11: 0 | H11: =D11*0.95 -> 276.507
B12: 6 | C12: Палочки "Фитнес" яблочные без сахара с малиной | D12: 291.06 | F12: 0 | H12: =D12*0.95 -> 276.507
B13: 7 | C13: Палочки "Фитнес" яблочные без сахара с черникой | D13: 291.06 | F13: =D13*E13 -> 0 | H13: =D13*0.95 -> 276.507
B14: 8 | C14: Пастила без сахара в темном и молочном шоколаде 100гр. | D14: 259.56 | F14: =D14*E14 -> 0 | H14: =D14*0.95 -> 246.582
B15: 9 | C15: Пастила без сахара классическая 115гр. | D15: 214.2 | F15: =D15*E15 -> 0 | H15: =D15*0.95 -> 203.49
B16: 10 | C16: Пастила без сахара классическая 230гр. | D16: 419.58 | F16: =D16*E16 -> 0 | H16: =D16*0.95 -> 398.601
B17: 11 | C17: Пастила без сахара классическая весовая кг. | D17: 1140.3 | F17: =D17*E17 -> 0 | H17: =D17*0.95 -> 1083.285
B18: 12 | C18: Пастила без сахара с брусникой 115гр. | D18: 214.2 | F18: =D18*E18 -> 0 | H18: =D18*0.95 -> 203.49
B19: 13 | C19: Пастила без сахара с брусникой 230гр. | D19: 419.58 | F19: =D19*E19 -> 0 | H19: =D19*0.95 -> 398.601
B20: 14 | C20: Пастила без сахара с брусникой весовая кг. | D20: 1236.06 | F20: =D20*E20 -> 0 | H20: =D20*0.95 -> 1174.257
B21: 15 | C21: Пастила без сахара с вишней 115гр. | D21: 214.2 | F21: =D21*E21 -> 0 | H21: =D21*0.95 -> 203.49
B22: 16 | C22: Пастила без сахара с вишней 230гр. | D22: 419.58 | F22: =D22*E22 -> 0 | H22: =D22*0.95 -> 398.601
B23: 17 | C23: Пастила без сахара с вишней весовая кг. | D23: 1236.06 | F23: =D23*E23 -> 0 | H23: =D23*0.95 -> 1174.257
B24: 18 | C24: Пастила без сахара с клюквой 115гр. | D24: 214.2 | F24: =D24*E24 -> 0 | H24: =D24*0.95 -> 203.49
... B95: 89 | C95: Щербет яблочный с черносливом и орехом БЕЗ САХАРА 250гр. | D95: 309.96 | F95: =D95*E95 -> 0 | H95: =D95*0.95 -> 294.462
C96: ИТОГО: | F96: =SUM(F7:F95) -> 0
E98: =D1 -> Вернуться на главную страницу

Sheet Цукаты и клюква
A1: ИП Кузнецов Сергей Андреевич | C1: Вернуться на главную страницу
A3: Россия, Вологодская обл., рп. Чебсара, пер. Переселенческий, 10
A4: e-mail: kuz_mag@mail.ru, сайт: https://www.volteaman.ru
A5: Телефон, WhatsApp, Telegram: +7 (931) 501-25-50
A7: МОРКОВНЫЕ ЦУКАТЫ И КЛЮКВА В САХАРНОЙ ПУДРЕ
A8: (цены для оптовых покупателей и СП, минимальная закупка 5 тыс. рублей, за наличные скидка 7%)
A9: Клиент:
A10: Дата заказа:
A11: Цукаты из Вологды в картонной упаковке ФИТО Fit | B11: Вес, гр | C11: Цена за шт., руб | D11: Заказ, шт. | E11: Сумма, руб. | F11: Цена за нал. шт., руб
A12: Цукаты Вологодская малинка 100 гр ФИТО Fit | B12: 100 | C12: 118 | E12: =C12*D12 -> 0 | F12: 110
A13: Цукаты Вологодская вишенка 100 гр ФИТО Fit | B13: 100 | C13: 118 | E13: =C13*D13 -> 0 | F13: 110
A14: Цукаты Вологодская клюковка 100 гр ФИТО Fit | B14: 100 | C14: 118 | E14: =C14*D14 -> 0 | F14: 110
A15: Цукаты Вологодская черничка 100 гр ФИТО Fit | B15: 100 | C15: 118 | E15: =C15*D15 -> 0 | F15: 110
A16: Цукаты Вологодская клубничка 100 гр ФИТО Fit | B16: 100 | C16: 118 | E16: =C16*D16 -> 0 | F16: 110
A17: Цукаты Вологодское яблочко 100 гр ФИТО Fit | B17: 100 | C17: 118 | E17: =C17*D17 -> 0 | F17: 110
A18: Цукаты Вологодская морковка 100 гр ФИТО Fit | B18: 100 | C18: 118 | E18: =C18*D18 -> 0 | F18: 110
A19: Цукаты Вологодский лимончик 100 гр ФИТО Fit | B19: 100 | C19: 118 | E19: =C19*D19 -> 0 | F19: 110
A20: Цукаты из Вологды "Ассорти" (малиновые, вишневые, клюквенные, черничные, клубничные) 100 гр ФИТО Fit | B20: 100 | C20: 118 | E20: =C20*D20 -> 0 | F20: 110
A21: Вологодские цукаты "Кладовая сладостей" | B21: Вес, гр | C21: Цена за шт., руб | D21: Заказ, шт. | E21: Сумма, руб. | F21: Цена за нал. шт., руб
A22: Вологодские цукаты Ассорти 120 г. "Кладовая Сладостей" | B22: 120 | C22: 255 | D22: 0 | E22: =C22*D22 -> 0 | F22: =C22*0.93 -> 237.15
A23: Вологодские цукаты из Вишни 100 г. "Кладовая Сладостей" | B23: 100 | C23: 390 | D23: 0 | E23: =C23*D23 -> 0 | F23: =C23*0.93 -> 362.7
A24: Вологодские цукаты из Клюквы 120 г. "Кладовая Сладостей" | B24: 120 | C24: 280 | D24: 0 | E24: =C24*D24 -> 0 | F24: =C24*0.93 -> 260.4
A25: Вологодские цукаты из Крыжовника 130 г. "Кладовая Сладостей" | B25: 120 | C25: 275 | D25: 0 | E25: =C25*D25 -> 0 | F25: =C25*0.93 -> 255.75
A26: Вологодские цукаты из Облепихи 70 г. "Кладовая Сладостей" | B26: 150 | C26: 295 | D26: 0 | E26: =C26*D26 -> 0 | F26: =C26*0.93 -> 274.35
A27: Вологодские цукаты из Ревеня 130 г. "Кладовая Сладостей" | B27: 120 | C27: 355 | D27: 0 | E27: =C27*D27 -> 0 | F27: =C27*0.93 -> 330.15
A28: Вологодские цукаты из Тыквы 120 г. "Кладовая Сладостей" | B28: 150 | C28: 210 | D28: 0 | E28: =C28*D28 -> 0 | F28: =C28*0.93 -> 195.3
A29: Вологодские цукаты из Черники 70 г. "Кладовая Сладостей" | B29: 70 | C29: 240 | D29: 0 | E29: =C29*D29 -> 0 | F29: =C29*0.93 -> 223.2
A30: Вологодские цукаты из Черноплодной рябины 130 г. "Кладовая Сладостей" | B30: 70 | C30: 210 | D30: 0 | E30: =C30*D30 -> 0 | F30: =C30*0.93 -> 195.3
A31: Цукаты "Овощное чудо" | B31: Вес, гр | C31: Цена за шт., руб | D31: Заказ, шт. | E31: Сумма, руб. | F31: Цена за нал. шт., руб
A32: Мармеладные морковные дольки | B32: 110 | C32: 122 | D32: 0 | E32: =C32*D32 -> 0 | F32: =C32*0.93 -> 113.46
A33: Сладкие морковные дольки | B33: 110 | C33: 122 | D33: 0 | E33: =C33*D33 -> 0 | F33: =C33*0.93 -> 113.46
A34: Сладкие морковные сухарики | B34: 110 | C34: 122 | D34: 0 | E34: =C34*D34 -> 0 | F34: =C34*0.93 -> 113.46
A35: Цукатные морковные ириски | B35: 110 | C35: 122 | D35: 0 | E35: =C35*D35 -> 0 | F35: =C35*0.93 -> 113.46
A36: Сладкие тыквенные дольки | B36: 110 | C36: 224 | D36: 0 | E36: =C36*D36 -> 0 | F36: =C36*0.93 -> 208.32
A37: Свекольные ириски | B37: 110 | C37: 122 | D37: 0 | E37: =C37*D37 -> 0 | F37: =C37*0.93 -> 113.46
A38: Клюква в сахарной пудре | B38: Вес, гр | C38: Цена за шт., руб | D38: Заказ, шт. | E38: Сумма, руб. | F38: Цена за нал. шт., руб
A39: Клюква в сахарной пудре (вложение 36 штук) 125 гр. | B39: 125 | C39: 145 | D39: 0 | E39: =C39*D39 -> 0 | F39: =C39*0.93 -> 134.85
D40: =SUM(D12:D20)+SUM(D22:D30)+SUM(D32:D37)+SUM(D39:D39) -> 0
A41: Вернуться на главную

Sheet Чага оптом
A1: Оптовый прайс-лист на Чагу (берёзовый гриб) | E1: Россия, Вологодская обл, п. Чёбсара +7(931)50-125-50 | G1: ИП Кузнецов Сергей Андреевич
J2: Вернуться на главную страницу
A3: Интернет-магазин "Вологодский чаеман" предлагает для реализации березовый гриб чагу из лесов Вологодчины Вес заказа должен быть кратным 4 кг.
A6: № | B6: Наименование | C6: Розничная цена, руб. | D6: заказ, шт | E6: сумма | F6: цена при заказе от 4 кг | G6: заказ, шт | H6: сумма | I6: цена при заказе от 16 кг | J6: заказ, шт | K6: сумма | L6: цена при заказе от 32 кг | M6: заказ, шт | N6: сумма
A7: 1 | B7: Чага кусковая 1 кг | C7: 1000 | E7: =D7*C7 -> 0 | F7: 700 | H7: =G7*F7 -> 0 | I7: 700 | K7: =J7*I7 -> 0 | L7: 650 | N7: =M7*L7 -> 0
A8: 2 | B8: Чага дробленая 1 кг | C8: 1000 | E8: =D8*C8 -> 0 | F8: 700 | H8: =G8*F8 -> 0 | I8: 700 | K8: =J8*I8 -> 0 | L8: 650 | N8: =M8*L8 -> 0
A9: 3 | B9: Чага молотая 1 кг | C9: 900 | E9: =D9*C9 -> 0 | F9: 600 | H9: =G9*F9 -> 0 | I9: 500 | K9: =J9*I9 -> 0 | L9: 450 | N9: =M9*L9 -> 0
C10: Итого: | E10: =SUM(E7:E9) -> 0 | H10: =SUM(H7:H9) -> 0 | K10: =SUM(K7:K9) -> 0 | N10: =SUM(N7:N9) -> 0
B12: Чага чай в фирменной упаковке | C12: Вес, г | D12: Цена за шт., руб | E12: Заказ, шт. | F12: Сумма, руб.
B13: Чага-чай Вологодский классический 150 г | C13: 150 | D13: 145 | E13: 0 | F13: =D13*E13 -> 0
B14: Чага-чай Вологодский с яблоком и корицей 150 г | C14: 150 | D14: 145 | E14: 0 | F14: =D14*E14 -> 0
B15: Чага-чай Вологодский с шиповником 150 г | C15: 150 | D15: 145 | E15: 0 | F15: =D15*E15 -> 0
B16: Чага-чай Вологодский с клюквой 150 г | C16: 150 | D16: 145 | E16: 0 | F16: =D16*E16 -> 0
B17: Чага-чай Вологодский с брусникой 150 г | C17: 150 | D17: 145 | E17: 0 | F17: =D17*E17 -> 0
B18: Чага-чай Вологодский с имбирём 150 г | C18: 150 | D18: 145 | E18: 0 | F18: =D18*E18 -> 0
B19: Чага-чай Вологодский с боярышником 150 г | C19: 150 | D19: 145 | E19: 0 | F19: =D19*E19 -> 0
B20: Чага чай без добавок (Чага, собранная в чистейших лесах Вологодчины) | C20: 200 | D20: 250 | E20: 0 | F20: =D20*E20 -> 0
B21: Чага чай без добавок (Чага, собранная в чистейших лесах Вологодчины) | C21: 500 | D21: 420 | E21: 0 | F21: =D21*E21 -> 0
B22: Чага чай с шиповником | C22: 200 | D22: 250 | E22: 0 | F22: =D22*E22 -> 0
B23: Чага чай с солодкой | C23: 200 | D23: 250 | E23: 0 | F23: =D23*E23 -> 0
B24: Чага чай с облепихой | C24: 200 | D24: 250 | E24: 0 | F24: =D24*E24 -> 0
B25: Чага чай с грибом рейши | C25: 200 | D25: 250 | E25: 0 | F25: =D25*E25 -> 0
B27: ИТОГО | C27: =E10+H10+K10+N10+SUM(F20:F25) -> 0
B29: прайс актуален до 01.01.2025

Sheet Дикоросы и дары леса
B1: ИП Кузнецов Сергей Андреевич
B3: Россия, Вологодская обл., рп. Чебсара, пер. Переселенческий, 10
B4: e-mail: kuz_mag@mail.ru, сайт: https://www.volteaman.ru
B5: Телефон, WhatsApp, Telegram: +7 (931) 501-25-50
A7: Травы, плоды, натуральные добавки для чайных купажей
B9: Травы в фасовке от 1 кг | C9: Цена за 1000 гр, руб. | D9: Заказ, шт | E9: Итого | F9: Наличные
B11: Апельсина цедра сушёная | C11: 1000 | E11: =C11*D11 -> 0 | F11: =C11*0.93 -> 930
B12: Барбарис красный плоды | C12: 1050 | E12: =C12*D12 -> 0 | F12: =C12*0.93 -> 976.5
B13: Боярышник | C13: 371 | E13: =C13*D13 -> 0 | F13: =C13*0.93 -> 345.03
B14: Брусники ягода молотая | C14: 900 | E14: =C14*D14 -> 0 | F14: =C14*0.93 -> 837
B15: Брусники лист | C15: 800 | E15: =C15*D15 -> 0 | F15: =C15*0.93 -> 744
B16: Вишни лист | C16: 700 | E16: =C16*D16 -> 0 | F16: =C16*0.93 -> 651
B17: Душица | C17: 450 | E17: =C17*D17 -> 0 | F17: =C17*0.93 -> 418.5
B18: Ежевики лист | C18: 380 | E18: =C18*D18 -> 0 | F18: =C18*0.93 -> 353.4
B19: Зверобой | C19: 500 | E19: =C19*D19 -> 0 | F19: =C19*0.93 -> 465
B20: Земляники лист | C20: 300 | E20: =C20*D20 -> 0 | F20: =C20*0.93 -> 279
B21: Имбирь дробленый 2 мм | C21: 1270 | E21: =C21*D21 -> 0 | F21: =C21*0.93 -> 1181.1
B22: Имбирь порошок | C22: 550 | E22: =C22*D22 -> 0 | F22: =C22*0.93 -> 511.5
... B40: Яблоко сушёное кубик | C40: 350 | E40: =C40*D40 -> 0 | F40: =C40*0.93 -> 325.5
B41: Травы в БОПП пакете 100 гр | C41: Цена за 100 гр, руб. | D41: Заказ, шт | E41: Итого
B43: Апельсина цедра сушёная 100 гр. | C43: 113.88 | E43: =C43*D43 -> 0
B44: Барбарис красный плоды 100 гр. | C44: 128.18
B45: Берёзы лист 100 гр. | C45: 54.08 | E45: =C45*D45 -> 0
B46: Боярышник 100 гр. | C46: 56.68 | E46: =C46*D46 -> 0
B47: Брусники ягода молотая 100 гр. | C47: 93.08
B48: Брусники лист 100 гр. | C48: 103.48 | E48: =C48*D48 -> 0
B49: Вишни лист 100 гр. | C49: 77.48 | E49: =C49*D49 -> 0
B50: Вишни лист ферментированный (возможен в гранулированном виде) 100 гр. | C50: 106.08 | E50: =C50*D50 -> 0
B51: Душица 100 гр. | C51: 60.58 | E51: =C51*D51 -> 0
B52: Ежевики лист 100 гр. | C52: 46.28 | E52: =C52*D52 -> 0
B53: Зверобой 100 гр. | C53: 63.18 | E53: =C53*D53 -> 0
B54: Земляники лист 100 гр. | C54: 41.08 | E54: =C54*D54 -> 0
B55: Имбирь дробленый 2 мм 100 гр. | C55: 126.88 | E55: =C55*D55 -> 0
B56: Клюква сушеная молотая (хлопья) 100 гр. | C56: 93.08 | E56: =C56*D56 -> 0
B57: Корица 100 гр. | C57: 137.28 | E57: =C57*D57 -> 0
B58: Крапивы лист 100 гр. | C58: 60.58 | E58: =C58*D58 -> 0
B59: Левзея (моралий корень) 100 гр. | C59: 104.78 | E59: =C59*D59 -> 0
... B79: Сагаан Дали в фасовке 50 гр | C79: 286 | E79: =C79*D79 -> 0
E80: =C80*D80 -> 0
B81: Травы в бумажном пакете 500 гр | C81: Цена за 500 гр, руб. | D81: Заказ, шт | E81: Итого
B83: Апельсина цедра сушёная 500 гр. | C83: 520 | E83: =C83*D83 -> 0
B84: Барбарис красный плоды 500 гр. | C84: 591.5 | E84: =C84*D84 -> 0
B85: Берёзы лист 500 гр. | C85: 221 | E85: =C85*D85 -> 0
B86: Боярышник 500 гр. | C86: 234 | E86: =C86*D86 -> 0
B87: Брусники ягода молотая 500 гр. | C87: 416 | E87: =C87*D87 -> 0
B88: Брусники лист 500 гр. | C88: 468 | E88: =C88*D88 -> 0
B89: Вишни лист 500 гр. | C89: 338 | E89: =C89*D89 -> 0
B90: Вишни лист ферментированный (возможен в гранулированном виде) 500 гр. | C90: 481 | E90: =C90*D90 -> 0
B91: Душица 500 гр. | C91: 253.5 | E91: =C91*D91 -> 0
B92: Ежевики лист 500 гр. | C92: 182 | E92: =C92*D92 -> 0
B93: Зверобой 500 гр. | C93: 266.5 | E93: =C93*D93 -> 0
B94: Земляники лист 500 гр. | C94: 156 | E94: =C94*D94 -> 0
... B117: Яблоко сушёное чипсы 500 гр. | C117: 237.25 | E117: =C117*D117 -> 0
D118: =SUM(D43:D117) -> 0
B119: Вернуться на главную страницу

Sheet Драже
A1: Вологодский чаеман
A2: Вологодская область, Шекснинский район, рп Чёбсара, пер. Переселенческий, 10
A3: Тел. +7(931) 50-125-50, www.volteaman.ru
A5: Вернуться на главную страницу
A7: ПРАЙС-ЛИСТ ДРАЖЕ ИЗ ВОЛОГДЫ
A9: Наименование | B9: Цена, руб. | C9: Ед. измерения | D9: Заказ, шт | E9: Итого, руб. | F9: Цена за наличные
A10: Драже "Арахис в шоколадной глазури" 4кг. TV | B10: 524.76663 | C10: кг | E10: =D10*B10 -> 0 | F10: =B10*0.9 -> 472.28996
A11: Драже "Арахис в шоколадной глазури" 6кг. гофрокороб | B11: 520.09511 | C11: кг | E11: =D11*B11 -> 0 | F11: =B11*0.9 -> 468.0856
A12: Драже Вишня в шоколадной глазури 80гр. (24шт) | B12: 152.60276 | C12: шт | E12: =D12*B12 -> 0 | F12: =B12*0.9 -> 137.34248
A13: Драже "Вологодская клюковка" 4кг. TV | B13: 227.34697 | C13: кг | E13: =D13*B13 -> 0 | F13: =B13*0.9 -> 204.61227
A14: Драже "Вологодская клюковка" 6кг. гофрокороб | B14: 221.11828 | C14: кг | E14: =D14*B14 -> 0 | F14: =B14*0.9 -> 199.00645
A15: Драже "Грецкий в шоке" 35гр (15шт) | B15: 101.21612 | C15: шт | E15: =D15*B15 -> 0 | F15: =B15*0.9 -> 91.094504
A16: Драже "Гречка в ШОКе" 50гр. (24шт) | B16: 101.21612 | C16: шт | E16: =D16*B16 -> 0 | F16: =B16*0.9 -> 91.094504
A17: Драже "Друг Фундук" 45гр (20шт) | B17: 88.758747 | C17: шт | E17: =D17*B17 -> 0 | F17: =B17*0.9 -> 79.882872
A18: Драже "Заморские камешки" 50гр (20шт) | B18: 38.929275 | C18: шт | E18: =D18*B18 -> 0 | F18: =B18*0.9 -> 35.036348
A19: Драже "Заморские камешки" 90гр. НГ баул | B19: 80.972892 | C19: шт | E19: =D19*B19 -> 0 | F19: =B19*0.9 -> 72.875603
A20: Драже "Изюм в глазури" 4кг. TV | B20: 485.83735 | C20: кг | E20: =D20*B20 -> 0 | F20: =B20*0.9 -> 437.25362
A21: Драже "Изюм в глазури" 7кг. гофрокороб | B21: 462.47979 | C21: кг | E21: =D21*B21 -> 0 | F21: =B21*0.9 -> 416.23181
... A23: Драже "Кешью в шоке" 35гр (15шт) | B23: 105.88763 | C23: шт | E23: =D23*B23 -> 0 | F23: =B23*0.9 -> 95.298865
A24: Драже "Клюква в шоколаде" 100гр. (24шт) | B24: 154.48125 | C24: шт | E24: =D24*B24 -> 0 | F24: 120
A25: Драже "Клюква в шоколаде" 100гр. НГ | B25: 0 | C25: шт | E25: =D25*B25 -> 0 | F25: =B25*0.9 -> 0
A26: Кофейные зерна в шоколаде 25гр. | B26: 49.829472 | C26: шт | E26: =D26*B26 -> 0 | F26: =B26*0.9 -> 44.846525
A27: Драже "Лимонная свежесть" 250гр. (20шт.) | B27: 70.072695 | C27: шт | E27: =D27*B27 -> 0 | F27: =B27*0.9 -> 63.065426
A28: Драже "Лимонная свежесть" 4кг. TV | B28: 216.44677 | C28: кг | E28: =D28*B28 -> 0 | F28: =B28*0.9 -> 194.80209
A29: Драже "Лимонная свежесть" 6кг. гофрокороб | B29: 211.77526 | C29: кг | E29: =D29*B29 -> 0 | F29: =B29*0.9 -> 190.59773
A30: Драже "Мармелотто" 100гр (24шт) | B30: 133.91671 | C30: шт | E30: =D30*B30 -> 0 | F30: =B30*0.9 -> 120.52504
A31: Драже "Полба в ШОКе" 150гр. дой-пак | B31: 182.18901 | C31: шт | E31: =D31*B31 -> 0 | F31: =B31*0.9 -> 163.97011
A32: Драже "Полба в Шоке" 50гр (24шт) | B32: 114.49 | C32: шт | E32: =D32*B32 -> 0 | F32: =B32*0.9 -> 103.041
A33: Драже "Полба в ШОКе" 50гр. НГ | B33: 135.47388 | C33: шт | E33: =D33*B33 -> 0 | F33: =B33*0.9 -> 121.92649
A34: Драже ЗАО Кондитерская фабрика "Пользочка" (24шт) ТОЛЬКО БАУЛ! | B34: 73.187037 | C34: шт | E34: =D34*B34 -> 0 | F34: =B34*0.9 -> 65.868333
A35: Драже "С Ананасом" сундучок 35гр. | B35: 60.729669 | C35: шт | E35: =D35*B35 -> 0 | F35: =B35*0.9 -> 54.656702
A36: Драже "Со вкусом зеленого яблока" 4кг. TV | B36: 224.23262 | C36: кг | E36: =D36*B36 -> 0 | F36: =B36*0.9 -> 201.80936
... A54: Цукаты в шоколаде "Пан Банан" 50гр. | B54: 59.172498 | C54: шт | E54: =D54*B54 -> 0 | F54: =B54*0.9 -> 53.255248
A55: ИТОГО: | E55: =SUM(E10:E54) -> 0
A58: Вернуться на главную страницу

Sheet Зефир
A1: ВОЛОГОДСКИЙ ЧАЕМАН
A2: Вологодская область, Шекснинский район, рп Чёбсара, пер. Переселенческий, 10
A3: Тел. +7(931) 50-125-50, www.volteaman.ru
A5: Вернуться на главную страницу
A7: ПРАЙС-ЛИСТ ЗЕФИР И ПАСТИЛА КОНДИТЕРСКАЯ
A9: Наименование | B9: Цена, руб. | C9: Ед. измерения | D9: Заказ, шт | E9: Итого, руб.
A10: Вологодская пастила глазированная "Чаруся" в шоколадной глазури 3кг. | B10: 632.21143 | C10: кг | E10: =B10*D10 -> 0
A11: Вологодская пастила глазированная "Чаруся" в/з народный костюм 14шт. | B11: 361.26367 | C11: шт | E11: =B11*D11 -> 0
A12: Пастила "Чаруся" в/з народный костюм 3,5кг. гофрокороб | B12: 722.52734 | C12: кг | E12: =B12*D12 -> 0
A13: Пастила "Жеманэль" 3кг. | B13: 457.80827 | C13: кг | E13: =B13*D13 -> 0
A14: Пастила "Нежная" 3кг. | B14: 513.86643 | C14: шт | E14: =B14*D14 -> 0
A15: Пастила "Ореховая" 3кг. | B15: 432.89354 | C15: кг | E15: =B15*D15 -> 0
A16: Пастила "Творожная" 2,5кг. | B16: 439.12222 | C16: кг | E16: =B16*D16 -> 0
A17: Пастила "Шоколадная" 3 кг. | B17: 527.88097 | C17: кг | E17: =B17*D17 -> 0
A18: Пастила "Яблочная" 3кг. | B18: 437.56505 | C18: кг | E18: =B18*D18 -> 0
A19: Вологодская пастила на фруктозе "Ванильная" 2кг. | B19: 678.92656 | C19: кг | E19: =B19*D19 -> 0
A20: Вологодская пастила на фруктозе "Вишнёвая" 2кг. | B20: 678.92656 | C20: кг | E20: =B20*D20 -> 0
A21: Вологодская пастила на фруктозе "Клубничная" 2кг. | B21: 678.92656 | C21: кг | E21: =B21*D21 -> 0
... A102: Зефир Вологодский "5 баллов" с Чиа 250гр. (14шт) П/П | B102: 112.35 | C102: шт | E102: =B102*D102 -> 0
A103: Зефир на фруктозе "Ванильный" 2кг. | B103: 554.35288 | C103: кг | D103: 0 | E103: =B103*D103 -> 0
A104: Зефир на фруктозе "Кокосовый" 2кг. | B104: 554.35288 | C104: кг | E104: =B104*D104 -> 0
A105: Зефир на фруктозе "Лимонный" 2кг. | B105: 554.35288 | C105: кг | E105: =B105*D105 -> 0
A106: Зефир на фруктозе "Малиновый" 2кг. | B106: 554.35288 | C106: кг | D106: 0 | E106: =B106*D106 -> 0
A107: Пастила глазированная "Чаруся" (народный костюм) 160гр. | B107: 180.63184 | C107: шт | E107: =B107*D107 -> 0
A108: Пастила глазированная "Чаруся" шоколадная 240гр. (21шт) | B108: 221.11828 | C108: шт | E108: =B108*D108 -> 0
A109: Пастила "Жеманель" 255гр. (21шт.) | B109: 200.87506 | C109: шт | E109: =B109*D109 -> 0
A110: Пастила "Ореховая" 255гр. (21шт.) | B110: 205.54657 | C110: шт | E110: =B110*D110 -> 0
A111: Пастила "Творожная" 200гр. (21шт) | B111: 171.28881 | C111: шт | E111: =B111*D111 -> 0
A112: Пастила "Шоколадная" 240гр. (21шт.) | B112: 205.54657 | C112: шт | E112: =B112*D112 -> 0
A113: Пастила "Яблочная" 240гр. (21шт.) | B113: 188.41769 | C113: шт | E113: =B113*D113 -> 0
A114: ИТОГО: | E114: =SUM(E10:E113) -> 0
A116: Вернуться на главную страницу

Sheet Карамель и ирис
A1: ВОЛОГОДСКИЙ ЧАЕМАН
A2: Вологодская область, Шекснинский район, рп Чёбсара, пер. Переселенческий, 10
A3: Тел. +7(931) 50-125-50, www.volteaman.ru
A5: Вернуться на главную страницу
A7: ПРАЙС-ЛИСТ КАРАМЕЛЬ, МОНПАНСЬЕ, ИРИС
A9: Наименование | B9: Цена, руб. | C9: Ед. измерения | D9: Заказ, шт | E9: Итого, руб.
A10: Вологодское монпансье "Анисовое" | B10: 24.914736 | C10: шт | E10: =D10*B10 -> 0
A11: Вологодское монпансье "в гостях у Деда Мороза" 65гр | B11: 90.315918 | C11: шт | E11: =D11*B11 -> 0
A12: Вологодское монпансье "Великий Устюг" 50гр | B12: 80.972892 | C12: шт | E12: =D12*B12 -> 0
A13: Вологодское монпансье "Великий Устюг" 65гр логотип НГ | B13: 90.315918 | C13: шт | E13: =D13*B13 -> 0
A14: Вологодское монпансье "Вологодский кремль" 65гр | B14: 90.315918 | C14: шт | E14: =D14*B14 -> 0
A15: Вологодское монпансье "Дед Мороз" белая банка 65гр | B15: 90.315918 | C15: шт | E15: =D15*B15 -> 0
A16: Вологодское монпансье "Дед Мороз" красная банка 65гр | B16: 90.315918 | C16: шт | E16: =D16*B16 -> 0
A17: Вологодское монпансье "Дед Мороз" синяя банка 65гр | B17: 90.315918 | C17: шт | E17: =D17*B17 -> 0
A18: Вологодское монпансье "Доброе утро" 65гр. | B18: 84.087234 | C18: шт | E18: =D18*B18 -> 0
A19: Вологодское монпансье "Домик Петра" 65гр. | B19: 90.315918 | C19: шт | E19: =D19*B19 -> 0
A20: Вологодское монпансье "Дымковская" 65гр. | B20: 84.087234 | C20: шт | E20: =D20*B20 -> 0
A21: Вологодское монпансье "Кирилло-Белозерский монастырь" 65гр. | B21: 84.087234 | C21: шт | E21: =D21*B21 -> 0
... A42: Карамель Вологодская с молоком в/з 200гр. (20шт) П/П | B42: 68.515524 | C42: шт | E42: =D42*B42 -> 0
A43: ИТОГО: | E43: =SUM(E10:E42) -> 0
A45: Вернуться на главную страницу

Sheet Конфеты
A1: ВОЛОГОДСКИЙ ЧАЕМАН
A2: Вологодская область, Шекснинский район, рп Чёбсара, пер. Переселенческий, 10
A3: Тел. +7(931) 50-125-50, www.volteaman.ru
A5: Вернуться на главную страницу
A7: ПРАЙС-ЛИСТ ВОЛОГОДСКИЕ КОНФЕТЫ и ЭКОБАТОНЧИКИ
A9: Полезные конфеты без сахара из Вологды | B9: Цена, руб. | C9: Ед. измерения | D9: Заказ, шт | E9: Итого, руб.
A10: Полезные конфеты из Вологды с хрустящим арахисом 60 г | B10: 130 | C10: шт | E10: =D10*B10 -> 0
A11: Полезные конфеты из Вологды с какао и кокосом 60 г | B11: 130 | C11: шт | E11: =D11*B11 -> 0
A12: Полезные конфеты из Вологды с какао и миндалем 60 г | B12: 130 | C12: шт | E12: =D12*B12 -> 0
A13: Полезные конфеты из Вологды с какао и солью 60 г | B13: 130 | C13: шт | E13: =D13*B13 -> 0
A14: Полезные конфеты из Вологды с кокосом 60 г | B14: 130 | C14: шт | E14: =D14*B14 -> 0
A15: Полезные конфеты из Вологды с клюквой 60 г | B15: 140 | C15: шт | E15: =D15*B15 -> 0
A16: Полезные конфеты из Вологды с хрустящим арахисом 100 г | B16: 190 | C16: шт | E16: =D16*B16 -> 0
A17: Полезные конфеты из Вологды с какао и кокосом 100 г | B17: 190 | C17: шт | E17: =D17*B17 -> 0
A18: Полезные конфеты из Вологды с какао и миндалем 100 г | B18: 190 | C18: шт | E18: =D18*B18 -> 0
A19: Полезные конфеты из Вологды с какао и солью 100 г | B19: 190 | C19: шт | E19: =D19*B19 -> 0
A20: Полезные конфеты из Вологды с кокосом 100 г | B20: 190 | C20: шт | E20: =D20*B20 -> 0
A21: Полезные конфеты из Вологды с клюквой 100 г | B21: 205 | C21: шт | E21: =D21*B21 -> 0
... A39: Полезные конфеты из Вологды с клюквой | B39: 1570 | C39: кг | E39: =D39*B39 -> 0
A40: Конфеты Вологодской кондитерской фабрики | B40: Цена, руб. | C40: Ед. измерения | D40: Заказ, шт | E40: Итого, руб.
A41: Вологодские конфеты овощные в шоколаде МОРКОВНЫЕ С ЛИМОНОМ 3кг | B41: 1037.9 | C41: шт | E41: =D41*B41 -> 0
A42: Вологодские конфеты овощные в шоколаде СВЕКОЛЬНОЕ НАСТРОЕНИЕ 3кг | B42: 1037.9 | C42: шт | E42: =D42*B42 -> 0
A43: Вологодские конфеты овощные в шоколаде СВЕКОЛЬНЫЕ С ИМБИРЁМ 3кг | B43: 1037.9 | C43: шт | E43: =D43*B43 -> 0
A44: Вологодские конфеты овощные в шоколаде МОРКОВНЫЕ С ЛИМОНОМ 270гр | B44: 331.7 | C44: шт | E44: =D44*B44 -> 0
A45: Вологодские конфеты овощные в шоколаде СВЕКОЛЬНЫЕ С ИМБИРЁМ 270гр | B45: 331.7 | C45: шт | E45: =D45*B45 -> 0
A46: Вологодские конфеты овощные в шоколаде МОРКОВНЫЕ С ЛИМОНОМ 270гр НГ | B46: 331.7 | C46: шт | E46: =D46*B46 -> 0
A47: Вологодские конфеты овощные в шоколаде СВЕКОЛЬНОЕ НАСТРОЕНИЕ 270гр НГ | B47: 331.7 | C47: шт | E47: =D47*B47 -> 0
A48: Вологодские конфеты овощные в шоколаде МОРКОВНЫЕ 270гр НГ | B48: 331.7 | C48: шт | E48: =D48*B48 -> 0
A49: Вологодские конфеты овощные в шоколаде МОРКОВНЫЕ 150гр пенал (8шт) | B49: 208.65 | C49: шт | E49: =D49*B49 -> 0
A50: Вологодские конфеты овощные в шоколаде МОРКОВНЫЕ С ЛИМОНОМ 150гр пенал (8шт) | B50: 208.65 | C50: шт | E50: =D50*B50 -> 0
A51: Вологодские конфеты овощные в шоколаде СВЕКОЛЬНОЕ НАСТРОЕНИЕ 150гр пенал (8шт) | B51: 208.65 | C51: шт | E51: =D51*B51 -> 0
A52: Вологодские конфеты овощные в шоколаде СВЕКОЛЬНЫЕ С ИМБИРЁМ 150гр пенал (8шт) | B52: 208.65 | C52: шт | E52: =D52*B52 -> 0
... A147: Легкий перекус (кукурузные палочки глазированные) 3кг. гофрокороб | B147: 688.12128 | C147: кг | E147: =D147*B147 -> 0
A148: ИТОГО: | E148: =SUM(E10:E147) -> 0
A154: Вернуться на главную страницу

Sheet Мармелад
A1: ВОЛОГОДСКИЙ ЧАЕМАН
A2: Вологодская область, Шекснинский район, рп Чёбсара, пер. Переселенческий, 10
A3: Тел. +7(931) 50-125-50, www.volteaman.ru
A5: Вернуться на главную страницу
A7: ПРАЙС-ЛИСТ МАРМЕЛАД ИЗ ВОЛОГДЫ
A9: Наименование | B9: Цена | C9: Ед. измерения | D9: Заказ, шт | E9: Итого
A10: Мармелады натуральные из Вологды
A11: Брусничный мармелад из Вологды в картонной упаковке 100 г | B11: 182 | C11: шт | E11: =D11*B11 -> 0
A12: Мармелад "Мятная смородина" из Вологды 100 г | B12: 182 | C12: шт | E12: =D12*B12 -> 0
A13: Мармелад "Тыква-облепиха" из Вологды в картонной упаковке 100 г | B13: 182 | C13: шт | E13: =D13*B13 -> 0
A14: Мармелад "Таежный" из Вологды в картонной упаковке 100 г | B14: 182 | C14: шт | E14: =D14*B14 -> 0
A15: Мармелад "Сосновый с шишкой" из Вологды 100 г | B15: 182 | C15: шт | E15: =D15*B15 -> 0
A16: Мармелад Брусничный | B16: 1200 | C16: кг | E16: =D16*B16 -> 0
A17: Мармелад Мятная смородина | B17: 1150 | C17: кг | E17: =D17*B17 -> 0
A18: Мармелад тыква-облепиха | B18: 1000 | C18: кг | E18: =D18*B18 -> 0
A19: Мармелад Таежный | B19: 1000 | C19: кг | E19: =D19*B19 -> 0
A20: Мармелад Сосновый с шишкой | B20: 1250 | C20: кг | E20: =D20*B20 -> 0
A21: Мармелад Мишка Таежный 90 гр | B21: 160 | C21: шт | E21: =D21*B21 -> 0
A22: Мармелад Мишка с кедровым орешком 90 гр | B22: 160 | C22: шт | E22: =D22*B22 -> 0
... A25: Мармелад елочка в посыпке 90 г | B25: 160 | C25: шт | E25: =D25*B25 -> 0
A26: Мармелад в упаковке "Кладовая сладостей"
A27: Вологодский мармелад в коробке "Ассорти" 150гр. | B27: 305 | C27: шт | E27: =B27*D27 -> 0
A28: Вологодский мармелад в коробке "Вишня" 400гр. | B28: 500 | C28: шт | E28: =B28*D28 -> 0
A29: Вологодский мармелад в коробке "Клубника" 400гр. | B29: 500 | C29: шт | E29: =B29*D29 -> 0
A30: Вологодский мармелад в коробке "Клюква" 400гр. | B30: 500 | C30: шт | E30: =B30*D30 -> 0
A31: Вологодский мармелад в коробке "Черника" 400гр. | B31: 500 | C31: шт | E31: =B31*D31 -> 0
A32: Вологодский мармелад кубики "Ассорти" 200гр. | B32: 295 | C32: шт | E32: =B32*D32 -> 0
A33: Вологодский мармелад кубики "Ассорти" 50гр. | B33: 95 | C33: шт | E33: =B33*D33 -> 0
A34: Вологодский мармелад кубики "Дачный микс" 200гр. | B34: 295 | C34: шт | E34: =B34*D34 -> 0
A35: Вологодский мармелад кубики "Лесной микс" 200гр. | B35: 295 | C35: шт | E35: =B35*D35 -> 0
A36: Вологодский мармелад кубики "Садовый микс" 200гр. | B36: 295 | C36: шт | E36: =B36*D36 -> 0
A37: Вологодский мармелад кубики в Белом шоколаде 50гр. | B37: 125 | C37: шт | E37: =B37*D37 -> 0
A38: Вологодский мармелад кубики в Темном шоколаде 50гр. крыжовник | B38: 125 | C38: шт | E38: =B38*D38 -> 0
... A40: Вологодский мармиелад Свёрток 180 г | B40: 180 | C40: шт | E40: =B40*D40 -> 0
A41: Мармелад в упаковке Вологодской кондитерской фабрики
A42: Мармелад Вологодский "Антистресс" 270гр (21шт) К/К | B42: 238.24716 | C42: шт | E42: =B42*D42 -> 0
A43: Мармелад Вологодский "Ассорти" 200гр К/К | B43: 197.736 | C43: шт | E43: =B43*D43 -> 0
A44: Мармелад Вологодский "Благодатный" с иван-чаем 240гр (24шт) К/К | B44: 186.86052 | C44: шт | E44: =B44*D44 -> 0
A45: Мармелад Вологодский "Вишня" 200гр (20шт) К/К | B45: 197.736 | C45: шт | E45: =B45*D45 -> 0
A46: Мармелад Вологодский "Гранат" 240гр (24шт) К/К | B46: 183.74618 | C46: шт | E46: =B46*D46 -> 0
A47: Мармелад Вологодский "Желейная фантазия" 230гр. (24шт.) | B47: 88.758747 | C47: шт | E47: =B47*D47 -> 0
A48: Вологодский мармелад "Желейная фантазия" 4кг. TV | B48: 341.02045 | C48: кг | E48: =B48*D48 -> 0
A49: Мармелад Вологодский "Имбирный" 230гр. (20шт.) П/П | B49: 88.758747 | C49: шт | E49: =B49*D49 -> 0
A50: Мармелад Вологодский "Имбирный" 240гр (24шт) К/К | B50: 186.86052 | C50: шт | E50: =B50*D50 -> 0
A51: Мармелад Вологодский "КленОк" 240гр (24шт) К/К | B51: 186.86052 | C51: шт | E51: =B51*D51 -> 0
A52: Мармелад Вологодский "Коктейль" 240гр (24шт) К/К | B52: 188.41769 | C52: шт | E52: =B52*D52 -> 0
A53: Мармелад Вологодский "Ладный" 200гр. | B53: 214.8896 | C53: шт | E53: =B53*D53 -> 0
... A73: Мармелад Вологодский "Холестерину нет" 240гр (24шт) К/К | B73: 188.41769 | C73: шт | E73: =B73*D73 -> 0
A74: ИТОГО: | E74: =SUM(E27:E40)+SUM(E42:E73) -> 0
A76: Вернуться на главную страницу

Sheet Зефир весовой
A1: ВОЛОГОДСКИЙ ЧАЕМАН
B3: Россия, Вологодская обл., рп. Чебсара, пер. Переселенческий, 10
B4: e-mail: kuz_mag@mail.ru, сайт: https://www.volteaman.ru
B5: Телефон, WhatsApp, Telegram: +7 (931) 501-25-50
A7: Зефир в фасовке 500 гр весовой
A9: № | B9: Товарная позиция | C9: Цена | D9: Заказ, шт | E9: Сумма
A10: 1 | B10: Зефир "Ассорти" 500гр | C10: 197.95227 | E10: =D10*C10 -> 0
A11: 2 | B11: Зефир "Бело-розовый" 500гр | C11: 197.45793 | E11: =D11*C11 -> 0
A12: 3 | B12: Зефир "Ванильный" 500гр | C12: 176.21676 | E12: =D12*C12 -> 0
A13: 4 | B13: Зефир "Вилюрный" 500гр | C13: 195.82043 | E13: =D13*C13 -> 0
A14: 5 | B14: Зефир "Вологодский" 500гр | C14: 182.61229 | E14: =D14*C14 -> 0
A15: 6 | B15: Зефир "Вологодский" 500гр. | C15: 0 | E15: =D15*C15 -> 0
A16: 7 | B16: Зефир "Вологодское лукошко" с аронией 500гр | C16: 222.11314 | E16: =D16*C16 -> 0
A17: 8 | B17: Зефир "Вологодское лукошко" с морковью 500гр | C17: 222.11314 | E17: =D17*C17 -> 0
A18: 9 | B18: Зефир "Вологодское лукошко" со свеклой 500гр | C18: 222.11314 | E18: =D18*C18 -> 0
A19: 10 | B19: Зефир "Куполки " 500гр | C19: 188.74519 | E19: =D19*C19 -> 0
A20: 11 | B20: Зефир "Облачко" 500гр | C20: 188.74519 | E20: =D20*C20 -> 0
A21: 12 | B21: Зефир "Одуванчик" 500гр | C21: 213.19957 | E21: =D21*C21 -> 0
... A44: 35 | B44: Зефир в шоколаде "со Сгущенкой" 500гр | C44: 252.46871 | E44: =D44*C44 -> 0
A45: ИТОГО: | D45: =SUM(D10:D44) -> 0 | E45: =SUM(E10:E44) -> 0
B47: Вернуться на главную страницу

Sheet Реквизиты ИП Кузнецов
A1: РЕКВИЗИТЫ
A2: ИП Кузнецов Сергей Андреевич
A4: Номер счета: 40802810712000002089
A5: Банк: ВОЛОГОДСКОЕ ОТДЕЛЕНИЕ N8638 ПАО СБЕРБАНК
A6: БИК: 041909644
A7: Кор. Cчет: 30101810900000000644
A8: ОГРН: 316352500075789
A9: ИНН: 352402296993
A10: КПП: —
A11: Адрес регистрации:
A12: 162580, Вологодская область, Шекснинский район, рп Чёбсара,
A13: пер. Переселенческий, 10
A16: Телефон: | C16: 89315012550
A17: e-mail: | C17: kuz_mag@mail.ru
A18: Сайт: | C18: http://www.volteaman.ru/
C20: вернуться на главную
